BEGIN:VCALENDAR
VERSION:2.0
PRODID:-//www.figureone.com//ics
CALSCALE:GREGORIAN
BEGIN:VEVENT
DTSTAMP:20260422T074902Z
UID:20260422T074902Z-452798376@mbexec.net
DTSTART:20260501T173000Z
DTEND:20260501T230000Z
ORGANIZER:
SUMMARY:Young Life's 19th Annual Golf Tournament
BEGIN:VALARM
TRIGGER;VALUE=DURATION:-PT15M
DESCRIPTION:Alarm: Young Life's 19th Annual Golf Tournament
ACTION:DISPLAY
END:VALARM
DESCRIPTION:
LOCATION:Olympia Country & Golf Club\n3636 Country Club Rd NW \nOlympia\, WA 98502
ATTACH:
END:VEVENT
END:VCALENDAR