BEGIN:VCALENDAR
VERSION:2.0
PRODID:-//www.figureone.com//ics
CALSCALE:GREGORIAN
BEGIN:VEVENT
DTSTAMP:20260422T080722Z
UID:20260422T080722Z-655271711@mbexec.net
DTSTART:20260505T183000Z
DTEND:20260505T200000Z
ORGANIZER:
SUMMARY:Warm Hearts Soup Bowl Fundraiser
BEGIN:VALARM
TRIGGER;VALUE=DURATION:-PT15M
DESCRIPTION:Alarm: Warm Hearts Soup Bowl Fundraiser
ACTION:DISPLAY
END:VALARM
DESCRIPTION:
LOCATION:Lacey Community Center\n6729 Pacific Ave SE \nOlympia\, WA 98503
ATTACH:
END:VEVENT
END:VCALENDAR