BEGIN:VCALENDAR
VERSION:2.0
PRODID:-//www.figureone.com//ics
CALSCALE:GREGORIAN
BEGIN:VEVENT
DTSTAMP:20260425T021914Z
UID:20260425T021914Z-592752830@mbexec.net
DTSTART:20260514T183000Z
DTEND:20260514T200000Z
ORGANIZER:
SUMMARY:United Learning Center Ribbon Cutting & Grand Opening
BEGIN:VALARM
TRIGGER;VALUE=DURATION:-PT15M
DESCRIPTION:Alarm: United Learning Center Ribbon Cutting & Grand Opening
ACTION:DISPLAY
END:VALARM
DESCRIPTION:
LOCATION:415 N Pearl St \nCentralia\, WA 98531-4609
ATTACH:
END:VEVENT
END:VCALENDAR