BEGIN:VCALENDAR
VERSION:2.0
PRODID:-//www.figureone.com//ics
CALSCALE:GREGORIAN
BEGIN:VEVENT
DTSTAMP:20260421T201927Z
UID:20260421T201927Z-77160008@mbexec.net
DTSTART:20260425T003000Z
DTEND:20260425T043000Z
ORGANIZER:
SUMMARY:Pope John Paul II High School's Light & Truth Gala
BEGIN:VALARM
TRIGGER;VALUE=DURATION:-PT15M
DESCRIPTION:Alarm: Pope John Paul II High School's Light & Truth Gala
ACTION:DISPLAY
END:VALARM
DESCRIPTION:
LOCATION:Indian Summer Golf & Country Club \n5900 Troon Lane SE\nOlympia\, WA 98501
ATTACH:
END:VEVENT
END:VCALENDAR