BEGIN:VCALENDAR
VERSION:2.0
PRODID:-//www.figureone.com//ics
CALSCALE:GREGORIAN
BEGIN:VEVENT
DTSTAMP:20260419T141224Z
UID:20260419T141224Z-951717329@mbexec.net
DTSTART:20260502T150000Z
DTEND:20260502T230000Z
ORGANIZER:
SUMMARY:May There Be Gardens
BEGIN:VALARM
TRIGGER;VALUE=DURATION:-PT15M
DESCRIPTION:Alarm: May There Be Gardens
ACTION:DISPLAY
END:VALARM
DESCRIPTION: \n\n\n\nWe are excited to invite you to celebrate GRuB's 25th Anniversary with a day of action\, community\, and impact during our annual build-a-thon event\, May There Be Gardens\, on May 2\, 2026!\n\nGather your coworkers\, friends\, or family and join a garden build team to support a family or individual on their food-producing\, hunger-reducing journey. Together\, all community teams will build 10 gardens in one day!\n\nAfter the builds\, return to the GRuB Farm for a community meal\, music\, and celebration!\n\nHow to participate\n\n 	Recruit 4-6 friends\, family members\, or coworkers for your build team. Your fundraising team can include many more!\n 	Fundraise This is one of the largest fundraisers for the GRuB Garden Project!  We are asking each May There Be Gardens! Team to set a fundraising goal of $1\,000.\n 	Join us on the GRuB Farm for a light breakfast and orientation to the day\, and meet your GRuB Staff Team leader.\n 	After the build\, join in the celebration featuring storytelling from GRuB's 25-year history of garden building\, music\, and a community meal.\n\nTo sign up or learn more\, please contact: Beth Provo \, Events and Campaigns Manager beth@goodgrub.org\n\n \n\n[btn href="https://www.goodgrub.org/event/may-there-be-gardens-25th-anniversary-edition" color="green" size="md" outline="false" target="_self" class=""]Learn More[/btn]
LOCATION:2016 Elliott Ave NW \nOlympia\, WA 98502
ATTACH:
END:VEVENT
END:VCALENDAR