BEGIN:VCALENDAR
VERSION:2.0
PRODID:-//www.figureone.com//ics
CALSCALE:GREGORIAN
BEGIN:VEVENT
DTSTAMP:20260420T031626Z
UID:20260420T031626Z-2035205549@mbexec.net
DTSTART:20260418T000000Z
DTEND:20260418T040000Z
ORGANIZER:
SUMMARY:A Night On The Town
BEGIN:VALARM
TRIGGER;VALUE=DURATION:-PT15M
DESCRIPTION:Alarm: A Night On The Town
ACTION:DISPLAY
END:VALARM
DESCRIPTION:About A Night On The Town\n\n\n\nStep out in style for an evening where elegance meets impact at the Thurston Chamber Education Foundation’s Annual Gala — A Night on the Town.\n\nFriday\, April 17\, 2026\n\nSkookum Creek Events Center\n\nJoin us for an unforgettable night of cocktails\, gourmet dining\, live entertainment\, and an after-party that keeps the celebration going.\n\nBut this isn’t just another gala—it’s a night that fuels opportunity. Every dollar raised supports the Thurston Chamber Education Foundation\, a 501(c)(3) nonprofit connecting classrooms\, boardrooms\, and community spaces to build a thriving Thurston County.\n\nThrough hands-on learning\, career exploration\, leadership development\, and collaborative partnerships\, the Foundation helps people of all ages find their purpose and reach their potential.\n\nThe result? A stronger workforce\, more confident leaders\, and a community that grows together.\n\nBecause when we invest in people\, we invest in the future of Thurston County.\n\nStep into elegance and purpose at A Night on the Town 2026!\n\nBy supporting the Thurston County Chamber Foundation\, a 501(c)(3) organization\, you're contributing to the pillars of education that build stronger\, more vibrant communities.\n\nTickets to attend are $200 per person and include a cocktail social\, four-course dinner\, live auction\, and after-party. \n\n\n\n\n\n\n\n\n\n\n\n\n\nTicket Information\n\n\n\n\n\n$200 per person or $1\,500 for a table of 8.\n\n\n\n\n\n\n\n\n\n\n\n\n\n\n\n\nDonations\n\n\n\n\n\nYour Investment in the Chamber Foundation means:\n\n 	Find Your Future is available at no cost to the 1\,000+ high school students and parents that attend.\n 	Leadership Thurston County’s 500 and counting graduates continue to affect positive change.\n 	Small Business Incubator provides a platform to stimulate economic growth.\n 	Math for Life opens a new door to educating students of all ages on this critical subject.\n 	Business2Youth Connect provides a direct link to connect students with work-integrated learning opportunities in the community that fit within their career interests.\n\nDonation Levels of the Chamber Foundation:\n\n 	$500+ Patrons of the Foundation\n 	$250 Supporters of the Foundation\n 	$100 Contributors of the Foundation\n\nMake a Donation today! Foundation Programs receive 100% of your donation.\n\nThank you to all of our donors to the Chamber Foundation!\n\n\n\n\n\n\n\n\n\n\n\n\n\n\n\n\nSponsorship Information\n\n\n\n\n\nBenefits to those sponsoring A Night on the Town may include:\n\n 	Event website recognition\n 	Recognition at the event\n 	Tickets to attend\n\nFor Sponsorship information\, contact Krystal Barkus-Franco kbarkus@thurstonchamber.com\n\n\n[btn href="https://thurstonchamber.ejoinme.org/ANOTT26TIX" color="blue" size="md" outline="false" target="_self" class=""]Get Tickets[/btn]
LOCATION:Skookum Creek Events Center\n91 WA-108\, \nShelton\, WA 98584
ATTACH:
END:VEVENT
END:VCALENDAR